BEGIN:VCALENDAR
VERSION:2.0
PRODID:icalendar-ruby
CALSCALE:GREGORIAN
METHOD:PUBLISH
BEGIN:VEVENT
DTSTAMP:20260424T193834Z
UID:6-616863@langleyvineyard.com
DTSTART:20250928T170000Z
DTEND:20250928T183000Z
CLASS:PUBLIC
CREATED:20260424T103923
DESCRIPTION:Sunday Gathering
LAST-MODIFIED:20260424T103923
LOCATION:5708 Glover Road 
SUMMARY:Sunday Gathering 
URL;VALUE=URI:https://www.langleyvineyard.com/events/sunday-gathering/2025-
 09-28
ATTACH;FILENAME=welcome.jpg;FMTTYPE=image/jpeg:https://dq5pwpg1q8ru0.cloudf
 ront.net/2024/08/20/15/15/52/177b9fc5-0b78-490f-ae77-62c1930d22c5/welcome.
 jpg
END:VEVENT
END:VCALENDAR
